BEGIN:VCALENDAR
PRODID:-//eluceo/ical//2.0/EN
VERSION:2.0
CALSCALE:GREGORIAN
BEGIN:VEVENT
UID:3d135d3c1bba7a53325c143dd9b77b76
DTSTAMP:20260424T140841Z
SUMMARY:Rotary Meeting
DESCRIPTION:
URL:https://rvkinternational.rotary1360.is/is/agenda/show/2670
DTSTART;TZID=Iceland:20210322T120000
DTEND;TZID=Iceland:20210322T130000
LOCATION:Sjáland\nRánargrund 4\n210 Garðabær.\n
CATEGORIES:Rotary
END:VEVENT
BEGIN:VTIMEZONE
TZID:Iceland
BEGIN:STANDARD
DTSTART:20210322T120000
TZNAME:GMT
TZOFFSETTO:+0000
TZOFFSETFROM:+0000
END:STANDARD
END:VTIMEZONE
END:VCALENDAR
